BEGIN:VCALENDAR
VERSION:2.0
PRODID:-//Tukios.com/
BEGIN:VEVENT
UID:4f7ce9c0-28fd-403d-81e7-5bf92955d8f9@www.rhaydensmith.com
DTSTAMP:20260421T164708Z
DTSTART:20260504T150000Z
DTEND:20260504T170000Z
SUMMARY:Visitation
DESCRIPTION:
URL:https://www.rhaydensmith.com/obituaries/janice-topping
LOCATION: 245 S Armistead Ave  Hampton VA 23669
GEO:37.02231;-76.3493514
END:VEVENT
END:VCALENDAR